BEGIN:VCALENDAR
VERSION:2.0
PRODID:-//Ajna Dance Company - ECPv6.15.20//NONSGML v1.0//EN
CALSCALE:GREGORIAN
METHOD:PUBLISH
X-ORIGINAL-URL:https://ajnadance.com
X-WR-CALDESC:Events for Ajna Dance Company
REFRESH-INTERVAL;VALUE=DURATION:PT1H
X-Robots-Tag:noindex
X-PUBLISHED-TTL:PT1H
BEGIN:VTIMEZONE
TZID:UTC
BEGIN:STANDARD
TZOFFSETFROM:+0000
TZOFFSETTO:+0000
TZNAME:UTC
DTSTART:20230101T000000
END:STANDARD
END:VTIMEZONE
BEGIN:VEVENT
DTSTART;TZID=UTC:20240505T140000
DTEND;TZID=UTC:20240505T150000
DTSTAMP:20260422T143614
CREATED:20240509T110452Z
LAST-MODIFIED:20240509T110818Z
UID:1623-1714917600-1714921200@ajnadance.com
SUMMARY:Interactive Bhangra Workshop with Ajna Dance
DESCRIPTION:Join us for an exhilarating Bhangra workshop hosted by Ajna Dance Company. \nDive into the colorful world of this joyful folk dance originating from Punjab\, India\, and Pakistan. \nLearn the signature moves and get ready for a lively\, interactive session suitable for the entire family. Balle balle! \nFree and open to all\, but space is limited and registration is required
URL:https://ajnadance.com/event/interactive-bhangra-workshop-with-ajna-dance/
LOCATION:Croton Free Library\, 171 Cleveland Drive\, Croton-on-Hudson\, NY\, 10520\, United States
ATTACH;FMTTYPE=image/webp:https://ajnadance.com/wp-content/uploads/2024/03/Homepage-slider-2.webp
END:VEVENT
END:VCALENDAR