BEGIN:VCALENDAR
VERSION:2.0
PRODID:-//Ajna Dance Company - ECPv6.15.20//NONSGML v1.0//EN
CALSCALE:GREGORIAN
METHOD:PUBLISH
X-WR-CALNAME:Ajna Dance Company
X-ORIGINAL-URL:https://ajnadance.com
X-WR-CALDESC:Events for Ajna Dance Company
REFRESH-INTERVAL;VALUE=DURATION:PT1H
X-Robots-Tag:noindex
X-PUBLISHED-TTL:PT1H
BEGIN:VTIMEZONE
TZID:UTC
BEGIN:STANDARD
TZOFFSETFROM:+0000
TZOFFSETTO:+0000
TZNAME:UTC
DTSTART:20230101T000000
END:STANDARD
END:VTIMEZONE
BEGIN:VEVENT
DTSTART;TZID=UTC:20240513T180000
DTEND;TZID=UTC:20240513T180000
DTSTAMP:20260422T143317
CREATED:20240508T125559Z
LAST-MODIFIED:20240508T194102Z
UID:1581-1715623200-1715623200@ajnadance.com
SUMMARY:Watch Ajna Dance Perform at AAPI Night Market | Barclays Center
DESCRIPTION:Join us for an unforgettable experience with Ajna Dance Company at the AAPI Night Market in Barclay Center! Get ready to be amazed as we showcase the beauty of Indian dance styles\, including classical\, folk\, and Bollywood. From graceful moves to lively beats\, our performance will take you on a colorful journey through the heart of India. \nDon’t miss out on the excitement – grab your tickets now and get ready to dance the night away with us!
URL:https://ajnadance.com/event/watch-anja-dance-perform-at-aapi-night-market-barclays-center/
LOCATION:Barclays Center\, 620 Atlantic Ave\,\, Brooklyn\, New York\, 11217\, United States
ATTACH;FMTTYPE=image/webp:https://ajnadance.com/wp-content/uploads/2024/04/Slider-3.webp
END:VEVENT
END:VCALENDAR