BEGIN:VCALENDAR
VERSION:2.0
PRODID:-//Ajna Dance Company - ECPv6.15.20//NONSGML v1.0//EN
CALSCALE:GREGORIAN
METHOD:PUBLISH
X-WR-CALNAME:Ajna Dance Company
X-ORIGINAL-URL:https://ajnadance.com
X-WR-CALDESC:Events for Ajna Dance Company
REFRESH-INTERVAL;VALUE=DURATION:PT1H
X-Robots-Tag:noindex
X-PUBLISHED-TTL:PT1H
BEGIN:VTIMEZONE
TZID:UTC
BEGIN:STANDARD
TZOFFSETFROM:+0000
TZOFFSETTO:+0000
TZNAME:UTC
DTSTART:20230101T000000
END:STANDARD
END:VTIMEZONE
BEGIN:VEVENT
DTSTART;TZID=UTC:20240607T103000
DTEND;TZID=UTC:20240607T111500
DTSTAMP:20260422T125109
CREATED:20240315T092055Z
LAST-MODIFIED:20240506T151010Z
UID:1202-1717756200-1717758900@ajnadance.com
SUMMARY:Indian Dance Lessons at Queens Public Library East Elmhurst
DESCRIPTION:Indian Dancing With Ajna & Urban Stages \nJoin us as we get a first taste of the dances from India\, including classical\, folk and Bollywood dance styles. You will learn some basic movements and also a fun routine suitable for dancers of all ages and levels. Experience Indian dance and culture in a way that is joyful\, fun\, and will get the whole family moving!
URL:https://ajnadance.com/event/test2/
LOCATION:NY
ATTACH;FMTTYPE=image/jpeg:https://ajnadance.com/wp-content/uploads/2024/03/2023-09-22-Ajna-Dance-85-scaled.jpeg
END:VEVENT
BEGIN:VEVENT
DTSTART;TZID=UTC:20240607T103000
DTEND;TZID=UTC:20240607T111500
DTSTAMP:20260422T125109
CREATED:20240508T135624Z
LAST-MODIFIED:20240604T180517Z
UID:1606-1717756200-1717758900@ajnadance.com
SUMMARY:Join us for free dance workshops on June 7th\, 14th\, & 21st at Queens Public Library
DESCRIPTION:Join us as we get a first taste of the dances from India\, including classical\, folk and Bollywood dance styles. You will learn some basic movements and also a fun routine suitable for dancers of all ages and levels. \nExperience Indian dance and culture in a way that is joyful\, fun\, and will get the whole family moving!
URL:https://ajnadance.com/event/watch-ajna-dance-at-indian-dancing-with-urban-stages-on-june-7th-14th-21st-at-queens-public-library/
LOCATION:East Elmhurst\, 95-06 Astoria Boulevard\, East Elmhurst\, NY\, 11369\, United States
ATTACH;FMTTYPE=image/webp:https://ajnadance.com/wp-content/uploads/2024/04/About-Slider-2.webp
END:VEVENT
END:VCALENDAR