BEGIN:VCALENDAR
VERSION:2.0
PRODID:-//Ajna Dance Company - ECPv6.15.20//NONSGML v1.0//EN
CALSCALE:GREGORIAN
METHOD:PUBLISH
X-WR-CALNAME:Ajna Dance Company
X-ORIGINAL-URL:https://ajnadance.com
X-WR-CALDESC:Events for Ajna Dance Company
REFRESH-INTERVAL;VALUE=DURATION:PT1H
X-Robots-Tag:noindex
X-PUBLISHED-TTL:PT1H
BEGIN:VTIMEZONE
TZID:UTC
BEGIN:STANDARD
TZOFFSETFROM:+0000
TZOFFSETTO:+0000
TZNAME:UTC
DTSTART:20230101T000000
END:STANDARD
END:VTIMEZONE
BEGIN:VEVENT
DTSTART;TZID=UTC:20240714T110000
DTEND;TZID=UTC:20240714T130000
DTSTAMP:20260422T112301
CREATED:20240621T153756Z
LAST-MODIFIED:20240621T153756Z
UID:1869-1720954800-1720962000@ajnadance.com
SUMMARY:South Asian Community Celebration at West Side Fest
DESCRIPTION:South Asian Community Celebration at West Side Fest\nCelebrate South Asian dance\, music and culture at HRPK’s first ever South Asian Community Celebration. In partnership with Ajna Dance Company\, get ready for summer celebration of dance\, music\, henna\, face painting\, food\, ice cream and FUN for the family! \nThe event runs from 11:00 AM–1:00 PM and tickets are free and open to all. \nSchedule\n11:00 AM: Henna and face painting \n11:30 AM: Ajna Dance Performance and family dance workshop \n12:15–1:00 PM: Dance party with DJ Sunny \nPartners include:\n\nMalai Ice Cream\nVeeray Da Dhaba\nHenna artists: Sandy Patangay & Chandni Parekh\nDholi: Avish Arora\nDJ Sunny\n\nVisit westsidefest.nyc to view a full schedule of participating museums and cultural institutions\, as well as free activities like special indoor and outdoor programming\, artmaking\, and more for all ages. \nAbout West Side Cultural Network\nThe West Side Cultural Network is a group of more than 20 museums\, parks\, performing arts centers\, and cultural institutions along the West Side of Manhattan. WSCN’s mission is to ensure New Yorkers know they have access to the myriad\, dynamic cultural offerings along the Hudson River and the adjoining neighborhoods.
URL:https://ajnadance.com/event/south-asian-community-celebration-at-west-side-fest/
LOCATION:Pier 63\, West 23rd Street and 12th Ave\, New York\, 10011\, United States
ATTACH;FMTTYPE=image/png:https://ajnadance.com/wp-content/uploads/2024/06/3.png
END:VEVENT
END:VCALENDAR