BEGIN:VCALENDAR
VERSION:2.0
PRODID:-//Ajna Dance Company - ECPv6.15.20//NONSGML v1.0//EN
CALSCALE:GREGORIAN
METHOD:PUBLISH
X-WR-CALNAME:Ajna Dance Company
X-ORIGINAL-URL:https://ajnadance.com
X-WR-CALDESC:Events for Ajna Dance Company
REFRESH-INTERVAL;VALUE=DURATION:PT1H
X-Robots-Tag:noindex
X-PUBLISHED-TTL:PT1H
BEGIN:VTIMEZONE
TZID:UTC
BEGIN:STANDARD
TZOFFSETFROM:+0000
TZOFFSETTO:+0000
TZNAME:UTC
DTSTART:20230101T000000
END:STANDARD
END:VTIMEZONE
BEGIN:VEVENT
DTSTART;TZID=UTC:20240810T120000
DTEND;TZID=UTC:20240810T160000
DTSTAMP:20260422T101023
CREATED:20240912T165616Z
LAST-MODIFIED:20240912T165632Z
UID:1995-1723291200-1723305600@ajnadance.com
SUMMARY:Mark Your Calendars: Ajna Dance Company at Bronx Zoo - Four-Day Event!
DESCRIPTION:Get ready to move it! Ajna Dance Company is thrilled to announce a four-day event at the world-famous Bronx Zoo\, happening Saturday and Sunday\, August 10th-11th and 17th-18th. \nWe will be preforming at  Bronx Zoo for a special event that promises to be both entertaining and educational. More information about the event\, including showtimes\, ticketing details\, and specific performance dates for each type of dance\, will be available on our website in August. \nIn the meantime\, be sure to check back for updates and don’t miss this exciting opportunity to experience the magic of dance at the Bronx Zoo!
URL:https://ajnadance.com/event/mark-your-calendars-ajna-dance-company-at-bronx-zoo-four-day-event/
LOCATION:NY
ATTACH;FMTTYPE=image/jpeg:https://ajnadance.com/wp-content/uploads/2024/09/WhatsApp-Image-2024-08-15-at-7.01.04-PM.jpeg
END:VEVENT
END:VCALENDAR