BEGIN:VCALENDAR
VERSION:2.0
PRODID:-//Ajna Dance Company - ECPv6.15.20//NONSGML v1.0//EN
CALSCALE:GREGORIAN
METHOD:PUBLISH
X-ORIGINAL-URL:https://ajnadance.com
X-WR-CALDESC:Events for Ajna Dance Company
REFRESH-INTERVAL;VALUE=DURATION:PT1H
X-Robots-Tag:noindex
X-PUBLISHED-TTL:PT1H
BEGIN:VTIMEZONE
TZID:UTC
BEGIN:STANDARD
TZOFFSETFROM:+0000
TZOFFSETTO:+0000
TZNAME:UTC
DTSTART:20230101T000000
END:STANDARD
END:VTIMEZONE
BEGIN:VEVENT
DTSTART;TZID=UTC:20240822T130000
DTEND;TZID=UTC:20240822T130000
DTSTAMP:20260422T100018
CREATED:20240912T170157Z
LAST-MODIFIED:20240912T174146Z
UID:1999-1724331600-1724331600@ajnadance.com
SUMMARY:Join Ajna Dance at the US Open Fan Week - Get ready to experience the vibrant energy of Bollywood and Bhangra right here at the US Open Fan Week! 🎉
DESCRIPTION:We are thrilled to invite you to a special performance by Ajna Dance Company\, where we’ll bring the rich and colorful traditions of Indian dance to life with a dynamic medley of Bollywood and Bhangra styles. But that’s not all! After the performance\, we’ll be hosting an interactive dance workshop\, giving you the chance to learn some of the moves and groove along with us. \nThis event is FREE and open to everyone\, so bring your friends\, family\, and all the dance enthusiasts you know!
URL:https://ajnadance.com/event/join-ajna-dance-at-the-us-open-fan-week-get-ready-to-experience-the-vibrant-energy-of-bollywood-and-bhangra-right-here-at-the-us-open-fan-week-%f0%9f%8e%89/
LOCATION:NY
ATTACH;FMTTYPE=image/jpeg:https://ajnadance.com/wp-content/uploads/2024/09/image000001.jpg
END:VEVENT
END:VCALENDAR