BEGIN:VCALENDAR
VERSION:2.0
PRODID:-//Ajna Dance Company - ECPv6.15.20//NONSGML v1.0//EN
CALSCALE:GREGORIAN
METHOD:PUBLISH
X-ORIGINAL-URL:https://ajnadance.com
X-WR-CALDESC:Events for Ajna Dance Company
REFRESH-INTERVAL;VALUE=DURATION:PT1H
X-Robots-Tag:noindex
X-PUBLISHED-TTL:PT1H
BEGIN:VTIMEZONE
TZID:UTC
BEGIN:STANDARD
TZOFFSETFROM:+0000
TZOFFSETTO:+0000
TZNAME:UTC
DTSTART:20230101T000000
END:STANDARD
END:VTIMEZONE
BEGIN:VEVENT
DTSTART;TZID=UTC:20240903T162000
DTEND;TZID=UTC:20240903T183000
DTSTAMP:20260420T122551
CREATED:20240912T172246Z
LAST-MODIFIED:20240912T172827Z
UID:2007-1725380400-1725388200@ajnadance.com
SUMMARY:Join Us at the Meatpacking Blessing Ceremony and Reception on September 7
DESCRIPTION:Ajna Dance Company is thrilled to announce our upcoming performance at the Meatpacking Blessing Ceremony and Reception on September 7. This special event promises to be a vibrant celebration\, and we are honored to be a part of it. \nFor the blessing ceremony\, we will present a graceful classical/semi-classical dance piece\, carefully chosen to complement the serene and uplifting atmosphere. Our dancers will bring a blend of elegance and spirituality\, perfectly attuned to the energy and vibe of this meaningful occasion. \nFollowing the ceremony\, the reception will come alive with a high-energy Bollywood/Bhangra performance. Expect an explosion of color\, rhythm\, and joy as we bring the beats of Bollywood and the spirited movements of Bhangra to the heart of the celebration. This lively and dynamic piece is sure to get everyone on their feet and add to the festive spirit of the event. \nWe look forward to sharing these moments with you. Mark your calendars and join us for a day of dance\, culture\, and celebration!
URL:https://ajnadance.com/event/join-us-at-the-meatpacking-blessing-ceremony-and-reception-on-september-7/
LOCATION:NY
ATTACH;FMTTYPE=image/jpeg:https://ajnadance.com/wp-content/uploads/2024/09/20240906_©BrakeThrough-Media_543A6905.jpg
END:VEVENT
END:VCALENDAR