BEGIN:VCALENDAR
VERSION:2.0
PRODID:-//Ajna Dance Company - ECPv6.15.20//NONSGML v1.0//EN
CALSCALE:GREGORIAN
METHOD:PUBLISH
X-ORIGINAL-URL:https://ajnadance.com
X-WR-CALDESC:Events for Ajna Dance Company
REFRESH-INTERVAL;VALUE=DURATION:PT1H
X-Robots-Tag:noindex
X-PUBLISHED-TTL:PT1H
BEGIN:VTIMEZONE
TZID:UTC
BEGIN:STANDARD
TZOFFSETFROM:+0000
TZOFFSETTO:+0000
TZNAME:UTC
DTSTART:20220101T000000
END:STANDARD
END:VTIMEZONE
BEGIN:VEVENT
DTSTART;TZID=UTC:20231107T104500
DTEND;TZID=UTC:20231107T104500
DTSTAMP:20260422T230650
CREATED:20240509T125156Z
LAST-MODIFIED:20240509T130158Z
UID:1654-1699353900-1699353900@ajnadance.com
SUMMARY:Tune In to PIX11 for a Spectacular Diwali Celebration with Ajna Dance Live
DESCRIPTION:Mark your calendars and set your alarms because Ajna Dance is bringing the magic of Diwali straight to your screens! Join us for a spectacular live performance on PIX11\, airing Tuesday\, November 7th at 10:45 am. Experience the vibrant colors\, infectious rhythms\, and heartwarming spirit of Diwali as our talented dancers light up the stage with their mesmerizing choreography. From traditional classics to contemporary fusion\, our performance promises to be a feast for the eyes and a celebration for the soul. \nWhether you’re tuning in from the comfort of your home or catching us on the go\, don’t miss this opportunity to immerse yourself in the joyous festivities of Diwali with Ajna Dance. Gather your family and friends\, and let’s make this Diwali a truly unforgettable experience together!
URL:https://ajnadance.com/event/tune-in-to-pix11-for-a-spectacular-diwali-celebration-with-ajna-dance-live/
LOCATION:NY
ATTACH;FMTTYPE=image/png:https://ajnadance.com/wp-content/uploads/2023/11/MInila.png
END:VEVENT
BEGIN:VEVENT
DTSTART;TZID=UTC:20231108T160000
DTEND;TZID=UTC:20231108T200000
DTSTAMP:20260422T230650
CREATED:20240509T124559Z
LAST-MODIFIED:20240509T124559Z
UID:1649-1699459200-1699473600@ajnadance.com
SUMMARY:Ajna Dance Ignites the Festivities: Captivating Performances at Diwali Celebration
DESCRIPTION:Step into the enchanting world of Ajna Dance as we set the stage ablaze with our captivating performances at the Diwali Celebration. Embrace the spirit of the Festival of Lights as our talented dancers illuminate the night with their dynamic choreography and infectious energy. From traditional folk dances to contemporary fusion pieces\, our repertoire showcases the rich diversity of Indian dance forms\, weaving together centuries-old traditions with modern flair. Join us in commemorating this joyous occasion as we spread happiness\, light\, and harmony through the universal language of dance. \nWhether you’re a lifelong aficionado or experiencing Indian culture for the first time\, our performances promise to enchant and inspire\, leaving an indelible mark on your Diwali festivities. \nLet Ajna Dance be the highlight of your celebration as we dance our way into your hearts\, illuminating the spirit of Diwali with every step.
URL:https://ajnadance.com/event/ajna-dance-ignites-the-festivities-captivating-performances-at-diwali-celebration/
LOCATION:Pier 57\, 25 11th Avenue\, New York\, New York\, 10011
ATTACH;FMTTYPE=image/jpeg:https://ajnadance.com/wp-content/uploads/2024/05/post-100.jpg
END:VEVENT
END:VCALENDAR