BEGIN:VCALENDAR
VERSION:2.0
PRODID:-//Ajna Dance Company - ECPv6.15.20//NONSGML v1.0//EN
CALSCALE:GREGORIAN
METHOD:PUBLISH
X-ORIGINAL-URL:https://ajnadance.com
X-WR-CALDESC:Events for Ajna Dance Company
REFRESH-INTERVAL;VALUE=DURATION:PT1H
X-Robots-Tag:noindex
X-PUBLISHED-TTL:PT1H
BEGIN:VTIMEZONE
TZID:UTC
BEGIN:STANDARD
TZOFFSETFROM:+0000
TZOFFSETTO:+0000
TZNAME:UTC
DTSTART:20230101T000000
END:STANDARD
END:VTIMEZONE
BEGIN:VEVENT
DTSTART;TZID=UTC:20240713T100000
DTEND;TZID=UTC:20240713T113000
DTSTAMP:20260422T100054
CREATED:20240508T140623Z
LAST-MODIFIED:20240508T194802Z
UID:1609-1720864800-1720870200@ajnadance.com
SUMMARY:Experience Serenity with Ajna Dance: Join Us for Breathwork & Meditation at India Week @ Lincoln Center
DESCRIPTION:  \nJoin dancer and yogi Minila Shah (Ajna Dance Company) and musicians Jay Gandhi (bansuri flute) and Ehren Hanson (tabla) for mindfulness practices\, breathwork\, and gentle stretches. Designed to improve flexibility and release tension\, the program will guide you inwards through mindfulness techniques\, help you focus on the present moment\, and quiet the mind. This experience is perfect for anyone seeking to unwind\, de-stress\, and reconnect with their inner selves.
URL:https://ajnadance.com/event/experience-serenity-with-ajna-dance-join-us-for-breathwork-meditation-at-india-week-lincoln-center/
LOCATION:Griffin Sidewalk Studio\, David Geffen Hall\, 10 Lincoln Center Plaza\, New York\, NY\, 10023\, United States
ATTACH;FMTTYPE=image/png:https://ajnadance.com/wp-content/uploads/2024/05/minila.png
END:VEVENT
BEGIN:VEVENT
DTSTART;TZID=UTC:20240714T110000
DTEND;TZID=UTC:20240714T130000
DTSTAMP:20260422T100054
CREATED:20240621T153756Z
LAST-MODIFIED:20240621T153756Z
UID:1869-1720954800-1720962000@ajnadance.com
SUMMARY:South Asian Community Celebration at West Side Fest
DESCRIPTION:South Asian Community Celebration at West Side Fest\nCelebrate South Asian dance\, music and culture at HRPK’s first ever South Asian Community Celebration. In partnership with Ajna Dance Company\, get ready for summer celebration of dance\, music\, henna\, face painting\, food\, ice cream and FUN for the family! \nThe event runs from 11:00 AM–1:00 PM and tickets are free and open to all. \nSchedule\n11:00 AM: Henna and face painting \n11:30 AM: Ajna Dance Performance and family dance workshop \n12:15–1:00 PM: Dance party with DJ Sunny \nPartners include:\n\nMalai Ice Cream\nVeeray Da Dhaba\nHenna artists: Sandy Patangay & Chandni Parekh\nDholi: Avish Arora\nDJ Sunny\n\nVisit westsidefest.nyc to view a full schedule of participating museums and cultural institutions\, as well as free activities like special indoor and outdoor programming\, artmaking\, and more for all ages. \nAbout West Side Cultural Network\nThe West Side Cultural Network is a group of more than 20 museums\, parks\, performing arts centers\, and cultural institutions along the West Side of Manhattan. WSCN’s mission is to ensure New Yorkers know they have access to the myriad\, dynamic cultural offerings along the Hudson River and the adjoining neighborhoods.
URL:https://ajnadance.com/event/south-asian-community-celebration-at-west-side-fest/
LOCATION:Pier 63\, West 23rd Street and 12th Ave\, New York\, 10011\, United States
ATTACH;FMTTYPE=image/png:https://ajnadance.com/wp-content/uploads/2024/06/3.png
END:VEVENT
BEGIN:VEVENT
DTSTART;TZID=UTC:20240717T153000
DTEND;TZID=UTC:20240717T153000
DTSTAMP:20260422T100054
CREATED:20240912T164732Z
LAST-MODIFIED:20240912T164750Z
UID:1993-1721230200-1721230200@ajnadance.com
SUMMARY:Boogie Woogie Wednesdays: Bollywood & Bhangra Dance with Ajna Dance Company at Staten Island Children's Museum
DESCRIPTION:Join us as we get a first taste of the dances from India including Bollywood & Bhangra dance styles on July 17 2024 at Staten Island Children’s Museum. Watch a performance from Ajna Dance and then join in the fun! You will learn some basic movements and a fun dance routine suitable for all ages and levels. Experience Indian dance and culture in a way that is relatable\, joyful\, and fun. An interactive program that will get the whole family moving. Free with museum admission.
URL:https://ajnadance.com/event/boogie-woogie-wednesdays-bollywood-bhangra-dance-with-ajna-dance-company-at-staten-island-childrens-museum/
LOCATION:NY
ATTACH;FMTTYPE=image/jpeg:https://ajnadance.com/wp-content/uploads/2024/05/DDDDDDD.jpg
END:VEVENT
END:VCALENDAR